Package: genomicInstability Version: 1.12.0 Command: /home/biocbuild/R/R/bin/R CMD INSTALL genomicInstability StartedAt: 2025-01-30 20:50:02 -0000 (Thu, 30 Jan 2025) EndedAt: 2025-01-30 20:50:32 -0000 (Thu, 30 Jan 2025) EllapsedTime: 30.5 seconds RetCode: 0 Status: OK