Package: gep2pep Version: 1.26.0 Command: /Library/Frameworks/R.framework/Resources/bin/R CMD build --keep-empty-dirs --no-resave-data gep2pep StartedAt: 2025-02-04 00:20:01 -0500 (Tue, 04 Feb 2025) EndedAt: 2025-02-04 00:20:33 -0500 (Tue, 04 Feb 2025) EllapsedTime: 32.1 seconds RetCode: 0 Status: OK PackageFile: gep2pep_1.26.0.tar.gz PackageFileSize: 121.8 KiB