Package: gep2pep Version: 1.26.0 Command: /Library/Frameworks/R.framework/Resources/bin/R CMD INSTALL gep2pep StartedAt: 2025-02-03 16:59:26 -0500 (Mon, 03 Feb 2025) EndedAt: 2025-02-03 16:59:45 -0500 (Mon, 03 Feb 2025) EllapsedTime: 19.5 seconds RetCode: 0 Status: OK