Package: gep2pep Version: 1.26.0 Command: /home/biocbuild/bbs-3.20-bioc/R/bin/R CMD build --keep-empty-dirs --no-resave-data --md5 gep2pep StartedAt: 2025-02-03 17:35:07 -0500 (Mon, 03 Feb 2025) EndedAt: 2025-02-03 17:35:31 -0500 (Mon, 03 Feb 2025) EllapsedTime: 24.0 seconds RetCode: 0 Status: OK PackageFile: gep2pep_1.26.0.tar.gz PackageFileSize: 122.8 KiB