Package: gep2pep Version: 1.26.0 Command: /home/biocbuild/bbs-3.20-bioc/R/bin/R CMD INSTALL gep2pep StartedAt: 2025-02-03 15:47:40 -0500 (Mon, 03 Feb 2025) EndedAt: 2025-02-03 15:47:57 -0500 (Mon, 03 Feb 2025) EllapsedTime: 17.5 seconds RetCode: 0 Status: OK