Package: gep2pep Version: 1.26.0 Command: chmod a+r gep2pep -R && F:\biocbuild\bbs-3.20-bioc\R\bin\R.exe CMD build --keep-empty-dirs --no-resave-data gep2pep StartedAt: 2025-02-03 19:27:17 -0500 (Mon, 03 Feb 2025) EndedAt: 2025-02-03 19:28:04 -0500 (Mon, 03 Feb 2025) EllapsedTime: 47.6 seconds RetCode: 0 Status: OK PackageFile: gep2pep_1.26.0.tar.gz PackageFileSize: 121.9 KiB