Package: gep2pep Version: 1.26.0 Command: /home/biocbuild/R/R/bin/R CMD build --keep-empty-dirs --no-resave-data gep2pep StartedAt: 2025-02-03 23:54:01 -0000 (Mon, 03 Feb 2025) EndedAt: 2025-02-03 23:54:32 -0000 (Mon, 03 Feb 2025) EllapsedTime: 31.0 seconds RetCode: 0 Status: OK PackageFile: gep2pep_1.26.0.tar.gz PackageFileSize: 122.4 KiB