Package: gep2pep Version: 1.26.0 Command: /home/biocbuild/R/R/bin/R CMD INSTALL gep2pep StartedAt: 2025-02-03 21:01:57 -0000 (Mon, 03 Feb 2025) EndedAt: 2025-02-03 21:02:17 -0000 (Mon, 03 Feb 2025) EllapsedTime: 20.3 seconds RetCode: 0 Status: OK