Package: gespeR Version: 1.38.0 Command: /Library/Frameworks/R.framework/Resources/bin/R CMD build --keep-empty-dirs --no-resave-data gespeR StartedAt: 2025-02-04 00:20:11 -0500 (Tue, 04 Feb 2025) EndedAt: 2025-02-04 00:20:12 -0500 (Tue, 04 Feb 2025) EllapsedTime: 1.2 seconds RetCode: 1 Status: ERROR PackageFile: None PackageFileSize: NA