Package: gespeR Version: 1.38.0 Command: /Library/Frameworks/R.framework/Resources/bin/R CMD INSTALL gespeR StartedAt: 2025-02-03 18:23:01 -0500 (Mon, 03 Feb 2025) EndedAt: 2025-02-03 18:23:02 -0500 (Mon, 03 Feb 2025) EllapsedTime: 0.3 seconds RetCode: 1 Status: ERROR