##############################################################################
##############################################################################
###
### Running command:
###
###   /Library/Frameworks/R.framework/Resources/bin/R CMD INSTALL gespeR
###
##############################################################################
##############################################################################


* installing to library ‘/Library/Frameworks/R.framework/Versions/4.4-x86_64/Resources/library’
ERROR: dependency ‘cellHTS2’ is not available for package ‘gespeR’
* removing ‘/Library/Frameworks/R.framework/Versions/4.4-x86_64/Resources/library/gespeR’