Package: gespeR Version: 1.38.0 Command: chmod a+r gespeR -R && F:\biocbuild\bbs-3.20-bioc\R\bin\R.exe CMD build --keep-empty-dirs --no-resave-data gespeR StartedAt: 2025-02-03 19:27:24 -0500 (Mon, 03 Feb 2025) EndedAt: 2025-02-03 19:27:31 -0500 (Mon, 03 Feb 2025) EllapsedTime: 6.7 seconds RetCode: 1 Status: ERROR PackageFile: None PackageFileSize: NA