Package: getDEE2 Version: 1.16.2 Command: rm -rf getDEE2.buildbin-libdir && mkdir getDEE2.buildbin-libdir && /Users/biocbuild/BBS/utils/build-universal.sh getDEE2_1.16.2.tar.gz /Library/Frameworks/R.framework/Resources/bin/R getDEE2.buildbin-libdir StartedAt: 2025-02-05 16:02:42 -0500 (Wed, 05 Feb 2025) EndedAt: 2025-02-05 16:03:08 -0500 (Wed, 05 Feb 2025) EllapsedTime: 25.2 seconds RetCode: 0 Status: OK PackageFile: getDEE2_1.16.2.tgz PackageFileSize: 72.33 KiB