Package: getDEE2 Version: 1.16.2 Command: /Library/Frameworks/R.framework/Resources/bin/R CMD build --keep-empty-dirs --no-resave-data getDEE2 StartedAt: 2025-02-04 00:20:12 -0500 (Tue, 04 Feb 2025) EndedAt: 2025-02-04 00:21:52 -0500 (Tue, 04 Feb 2025) EllapsedTime: 99.4 seconds RetCode: 0 Status: OK PackageFile: getDEE2_1.16.2.tar.gz PackageFileSize: 21.64 KiB