Package: getDEE2 Version: 1.16.2 Command: /Library/Frameworks/R.framework/Resources/bin/R CMD check --install=check:getDEE2.install-out.txt --library=/Library/Frameworks/R.framework/Resources/library --no-vignettes --timings getDEE2_1.16.2.tar.gz StartedAt: 2025-02-04 21:16:17 -0500 (Tue, 04 Feb 2025) EndedAt: 2025-02-04 21:21:14 -0500 (Tue, 04 Feb 2025) EllapsedTime: 296.9 seconds RetCode: 0 Status: OK CheckDir: getDEE2.Rcheck Warnings: 0