Package: getDEE2 Version: 1.16.0 Command: /home/biocbuild/R/R/bin/R CMD build --keep-empty-dirs --no-resave-data getDEE2 StartedAt: 2024-11-20 01:00:03 -0000 (Wed, 20 Nov 2024) EndedAt: 2024-11-20 01:01:15 -0000 (Wed, 20 Nov 2024) EllapsedTime: 72.1 seconds RetCode: 0 Status: OK PackageFile: getDEE2_1.16.0.tar.gz PackageFileSize: 22.35 KiB