Package: getDEE2 Version: 1.15.0 Command: rm -rf getDEE2.buildbin-libdir && mkdir getDEE2.buildbin-libdir && C:\Users\biocbuild\bbs-3.20-bioc\R\bin\R.exe CMD INSTALL --build --library=getDEE2.buildbin-libdir getDEE2_1.15.0.tar.gz StartedAt: 2024-07-16 06:15:19 -0400 (Tue, 16 Jul 2024) EndedAt: 2024-07-16 06:15:43 -0400 (Tue, 16 Jul 2024) EllapsedTime: 24.5 seconds RetCode: 0 Status: OK PackageFile: getDEE2_1.15.0.zip PackageFileSize: 77.61 KiB