Package: getDEE2 Version: 1.16.2 Command: /home/biocbuild/R/R/bin/R CMD INSTALL getDEE2 StartedAt: 2025-02-03 20:31:06 -0000 (Mon, 03 Feb 2025) EndedAt: 2025-02-03 20:31:30 -0000 (Mon, 03 Feb 2025) EllapsedTime: 24.6 seconds RetCode: 0 Status: OK