Package: geva Version: 1.14.0 Command: /Library/Frameworks/R.framework/Resources/bin/R CMD build --keep-empty-dirs --no-resave-data geva StartedAt: 2025-01-31 00:23:07 -0500 (Fri, 31 Jan 2025) EndedAt: 2025-01-31 00:25:13 -0500 (Fri, 31 Jan 2025) EllapsedTime: 126.4 seconds RetCode: 0 Status: OK PackageFile: geva_1.14.0.tar.gz PackageFileSize: 2.245 MiB