Package: geva Version: 1.14.0 Command: /Library/Frameworks/R.framework/Resources/bin/R CMD INSTALL geva StartedAt: 2025-01-30 15:11:02 -0500 (Thu, 30 Jan 2025) EndedAt: 2025-01-30 15:11:10 -0500 (Thu, 30 Jan 2025) EllapsedTime: 7.5 seconds RetCode: 0 Status: OK