Package: geva Version: 1.14.0 Command: chmod a+r geva -R && F:\biocbuild\bbs-3.20-bioc\R\bin\R.exe CMD build --keep-empty-dirs --no-resave-data geva StartedAt: 2025-02-03 19:27:32 -0500 (Mon, 03 Feb 2025) EndedAt: 2025-02-03 19:33:06 -0500 (Mon, 03 Feb 2025) EllapsedTime: 333.8 seconds RetCode: 0 Status: OK PackageFile: geva_1.14.0.tar.gz PackageFileSize: 1016 KiB