Package: gg4way Version: 1.4.0 Command: /Library/Frameworks/R.framework/Resources/bin/R CMD INSTALL gg4way StartedAt: 2025-01-30 15:32:14 -0500 (Thu, 30 Jan 2025) EndedAt: 2025-01-30 15:33:12 -0500 (Thu, 30 Jan 2025) EllapsedTime: 57.3 seconds RetCode: 0 Status: OK