Package: gg4way Version: 1.4.0 Command: F:\biocbuild\bbs-3.20-bioc\R\bin\R.exe CMD INSTALL gg4way StartedAt: 2025-01-30 15:59:14 -0500 (Thu, 30 Jan 2025) EndedAt: 2025-01-30 15:59:47 -0500 (Thu, 30 Jan 2025) EllapsedTime: 33.8 seconds RetCode: 0 Status: OK