Package: gg4way Version: 1.4.0 Command: /home/biocbuild/R/R/bin/R CMD build --keep-empty-dirs --no-resave-data gg4way StartedAt: 2025-01-30 23:54:32 -0000 (Thu, 30 Jan 2025) EndedAt: 2025-01-30 23:56:16 -0000 (Thu, 30 Jan 2025) EllapsedTime: 104.0 seconds RetCode: 0 Status: OK PackageFile: gg4way_1.4.0.tar.gz PackageFileSize: 2.592 MiB