Package: gg4way Version: 1.4.0 Command: /home/biocbuild/R/R/bin/R CMD check --install=check:gg4way.install-out.txt --library=/home/biocbuild/R/R/site-library --no-vignettes --timings gg4way_1.4.0.tar.gz StartedAt: 2025-01-31 06:41:26 -0000 (Fri, 31 Jan 2025) EndedAt: 2025-01-31 06:45:06 -0000 (Fri, 31 Jan 2025) EllapsedTime: 219.1 seconds RetCode: 0 Status: OK CheckDir: gg4way.Rcheck Warnings: 0