Package: gg4way Version: 1.4.0 Command: /home/biocbuild/R/R/bin/R CMD INSTALL gg4way StartedAt: 2025-01-30 20:23:14 -0000 (Thu, 30 Jan 2025) EndedAt: 2025-01-30 20:23:46 -0000 (Thu, 30 Jan 2025) EllapsedTime: 32.1 seconds RetCode: 0 Status: OK