Package: ggcyto Version: 1.34.0 Command: /Library/Frameworks/R.framework/Resources/bin/R CMD INSTALL ggcyto StartedAt: 2025-02-17 15:25:16 -0500 (Mon, 17 Feb 2025) EndedAt: 2025-02-17 15:25:52 -0500 (Mon, 17 Feb 2025) EllapsedTime: 36.9 seconds RetCode: 0 Status: OK