Package: ggcyto Version: 1.34.0 Command: /home/biocbuild/bbs-3.20-bioc/R/bin/R CMD INSTALL ggcyto StartedAt: 2025-02-03 15:25:36 -0500 (Mon, 03 Feb 2025) EndedAt: 2025-02-03 15:25:51 -0500 (Mon, 03 Feb 2025) EllapsedTime: 15.2 seconds RetCode: 0 Status: OK