Package: ggcyto Version: 1.34.0 Command: F:\biocbuild\bbs-3.20-bioc\R\bin\R.exe CMD INSTALL ggcyto StartedAt: 2025-02-03 16:10:23 -0500 (Mon, 03 Feb 2025) EndedAt: 2025-02-03 16:11:16 -0500 (Mon, 03 Feb 2025) EllapsedTime: 52.9 seconds RetCode: 0 Status: OK