Package: ggcyto Version: 1.34.0 Command: /home/biocbuild/R/R/bin/R CMD build --keep-empty-dirs --no-resave-data ggcyto StartedAt: 2025-02-03 23:55:25 -0000 (Mon, 03 Feb 2025) EndedAt: 2025-02-03 23:57:31 -0000 (Mon, 03 Feb 2025) EllapsedTime: 125.1 seconds RetCode: 0 Status: OK PackageFile: ggcyto_1.34.0.tar.gz PackageFileSize: 19.3 MiB