Package: ggcyto Version: 1.34.0 Command: /home/biocbuild/R/R/bin/R CMD INSTALL ggcyto StartedAt: 2025-02-03 20:36:45 -0000 (Mon, 03 Feb 2025) EndedAt: 2025-02-03 20:37:06 -0000 (Mon, 03 Feb 2025) EllapsedTime: 21.2 seconds RetCode: 0 Status: OK