Package: ggcyto
Version: 1.34.0
Command: /home/biocbuild/bbs-3.20-bioc/R/bin/R CMD INSTALL ggcyto
StartedAt: 2024-11-19 15:48:20 -0500 (Tue, 19 Nov 2024)
EndedAt: 2024-11-19 15:48:34 -0500 (Tue, 19 Nov 2024)
EllapsedTime: 13.8 seconds
RetCode: 0
Status: OK