Package: ggmanh Version: 1.10.0 Command: rm -rf ggmanh.buildbin-libdir && mkdir ggmanh.buildbin-libdir && /Users/biocbuild/BBS/utils/build-universal.sh ggmanh_1.10.0.tar.gz /Library/Frameworks/R.framework/Resources/bin/R ggmanh.buildbin-libdir StartedAt: 2025-02-05 16:03:09 -0500 (Wed, 05 Feb 2025) EndedAt: 2025-02-05 16:03:17 -0500 (Wed, 05 Feb 2025) EllapsedTime: 8.0 seconds RetCode: 0 Status: OK PackageFile: ggmanh_1.10.0.tgz PackageFileSize: 4.514 MiB