Package: ggmanh Version: 1.10.0 Command: /Library/Frameworks/R.framework/Resources/bin/R CMD build --keep-empty-dirs --no-resave-data ggmanh StartedAt: 2025-02-04 00:23:42 -0500 (Tue, 04 Feb 2025) EndedAt: 2025-02-04 00:24:42 -0500 (Tue, 04 Feb 2025) EllapsedTime: 59.7 seconds RetCode: 0 Status: OK PackageFile: ggmanh_1.10.0.tar.gz PackageFileSize: 4.417 MiB