Package: ggmanh Version: 1.10.0 Command: /Library/Frameworks/R.framework/Resources/bin/R CMD check --install=check:ggmanh.install-out.txt --library=/Library/Frameworks/R.framework/Resources/library --no-vignettes --timings ggmanh_1.10.0.tar.gz StartedAt: 2025-02-04 21:21:09 -0500 (Tue, 04 Feb 2025) EndedAt: 2025-02-04 21:22:00 -0500 (Tue, 04 Feb 2025) EllapsedTime: 50.7 seconds RetCode: 0 Status: OK CheckDir: ggmanh.Rcheck Warnings: 0