Package: ggmanh Version: 1.10.0 Command: /home/biocbuild/R/R/bin/R CMD build --keep-empty-dirs --no-resave-data ggmanh StartedAt: 2024-11-20 01:00:51 -0000 (Wed, 20 Nov 2024) EndedAt: 2024-11-20 01:01:57 -0000 (Wed, 20 Nov 2024) EllapsedTime: 66.1 seconds RetCode: 0 Status: OK PackageFile: ggmanh_1.10.0.tar.gz PackageFileSize: 3.399 MiB