Package: ggmanh Version: 1.10.0 Command: /home/biocbuild/R/R/bin/R CMD build --keep-empty-dirs --no-resave-data ggmanh StartedAt: 2025-02-03 23:55:52 -0000 (Mon, 03 Feb 2025) EndedAt: 2025-02-03 23:56:51 -0000 (Mon, 03 Feb 2025) EllapsedTime: 59.0 seconds RetCode: 0 Status: OK PackageFile: ggmanh_1.10.0.tar.gz PackageFileSize: 3.396 MiB