Package: ggmanh Version: 1.10.0 Command: /home/biocbuild/R/R/bin/R CMD INSTALL ggmanh StartedAt: 2025-02-03 20:33:43 -0000 (Mon, 03 Feb 2025) EndedAt: 2025-02-03 20:33:49 -0000 (Mon, 03 Feb 2025) EllapsedTime: 6.2 seconds RetCode: 0 Status: OK