Package: ggmsa
Version: 1.12.0
Command: /Library/Frameworks/R.framework/Resources/bin/R CMD check --install=check:ggmsa.install-out.txt --library=/Library/Frameworks/R.framework/Resources/library --no-vignettes --timings ggmsa_1.12.0.tar.gz
StartedAt: 2024-11-19 22:36:10 -0500 (Tue, 19 Nov 2024)
EndedAt: 2024-11-19 22:41:29 -0500 (Tue, 19 Nov 2024)
EllapsedTime: 319.2 seconds
RetCode: 0
Status: OK
CheckDir: ggmsa.Rcheck
Warnings: 0