Package: ggsc Version: 1.4.0 Command: rm -rf ggsc.buildbin-libdir && mkdir ggsc.buildbin-libdir && /Users/biocbuild/BBS/utils/build-universal.sh ggsc_1.4.0.tar.gz /Library/Frameworks/R.framework/Resources/bin/R ggsc.buildbin-libdir StartedAt: 2025-02-12 15:17:23 -0500 (Wed, 12 Feb 2025) EndedAt: 2025-02-12 15:18:28 -0500 (Wed, 12 Feb 2025) EllapsedTime: 64.9 seconds RetCode: 0 Status: OK PackageFile: ggsc_1.4.0.tgz PackageFileSize: 344.6 KiB