Package: ggsc Version: 1.4.0 Command: /Library/Frameworks/R.framework/Resources/bin/R CMD build --keep-empty-dirs --no-resave-data ggsc StartedAt: 2025-02-11 00:33:06 -0500 (Tue, 11 Feb 2025) EndedAt: 2025-02-11 00:34:08 -0500 (Tue, 11 Feb 2025) EllapsedTime: 61.8 seconds RetCode: 0 Status: OK PackageFile: ggsc_1.4.0.tar.gz PackageFileSize: 81.2 KiB