Package: ggsc Version: 1.4.0 Command: /Library/Frameworks/R.framework/Resources/bin/R CMD check --install=check:ggsc.install-out.txt --library=/Library/Frameworks/R.framework/Resources/library --no-vignettes --timings ggsc_1.4.0.tar.gz StartedAt: 2025-02-04 04:25:05 -0500 (Tue, 04 Feb 2025) EndedAt: 2025-02-04 04:35:18 -0500 (Tue, 04 Feb 2025) EllapsedTime: 612.8 seconds RetCode: 0 Status: OK CheckDir: ggsc.Rcheck Warnings: 0