Package: ggsc Version: 1.4.0 Command: chmod a+r ggsc -R && F:\biocbuild\bbs-3.20-bioc\R\bin\R.exe CMD build --keep-empty-dirs --no-resave-data ggsc StartedAt: 2025-02-03 19:28:41 -0500 (Mon, 03 Feb 2025) EndedAt: 2025-02-03 19:30:05 -0500 (Mon, 03 Feb 2025) EllapsedTime: 83.7 seconds RetCode: 0 Status: OK PackageFile: ggsc_1.4.0.tar.gz PackageFileSize: 81.28 KiB