Package: ggsc Version: 1.4.0 Command: /home/biocbuild/R/R/bin/R CMD build --keep-empty-dirs --no-resave-data ggsc StartedAt: 2025-02-10 23:47:54 -0000 (Mon, 10 Feb 2025) EndedAt: 2025-02-10 23:49:13 -0000 (Mon, 10 Feb 2025) EllapsedTime: 79.1 seconds RetCode: 0 Status: OK PackageFile: ggsc_1.4.0.tar.gz PackageFileSize: 83 KiB