Package: ggsc Version: 1.4.0 Command: /home/biocbuild/R/R/bin/R CMD INSTALL ggsc StartedAt: 2025-02-10 20:54:12 -0000 (Mon, 10 Feb 2025) EndedAt: 2025-02-10 20:55:30 -0000 (Mon, 10 Feb 2025) EllapsedTime: 77.9 seconds RetCode: 0 Status: OK