Package: ggseqalign Version: 1.0.0 Command: rm -rf ggseqalign.buildbin-libdir && mkdir ggseqalign.buildbin-libdir && /Users/biocbuild/BBS/utils/build-universal.sh ggseqalign_1.0.0.tar.gz /Library/Frameworks/R.framework/Resources/bin/R ggseqalign.buildbin-libdir StartedAt: 2025-02-05 16:03:35 -0500 (Wed, 05 Feb 2025) EndedAt: 2025-02-05 16:03:50 -0500 (Wed, 05 Feb 2025) EllapsedTime: 15.6 seconds RetCode: 0 Status: OK PackageFile: ggseqalign_1.0.0.tgz PackageFileSize: 731.5 KiB