Package: ggseqalign Version: 1.0.0 Command: /Library/Frameworks/R.framework/Resources/bin/R CMD build --keep-empty-dirs --no-resave-data ggseqalign StartedAt: 2025-02-03 19:15:46 -0500 (Mon, 03 Feb 2025) EndedAt: 2025-02-03 19:16:46 -0500 (Mon, 03 Feb 2025) EllapsedTime: 60.3 seconds RetCode: 0 Status: OK PackageFile: ggseqalign_1.0.0.tar.gz PackageFileSize: 716.7 KiB