Package: ggseqalign Version: 1.0.0 Command: /home/biocbuild/bbs-3.20-bioc/R/bin/R CMD build --keep-empty-dirs --no-resave-data --md5 ggseqalign StartedAt: 2025-02-03 17:36:43 -0500 (Mon, 03 Feb 2025) EndedAt: 2025-02-03 17:37:10 -0500 (Mon, 03 Feb 2025) EllapsedTime: 27.1 seconds RetCode: 0 Status: OK PackageFile: ggseqalign_1.0.0.tar.gz PackageFileSize: 732.6 KiB