Package: ggseqalign Version: 1.0.0 Command: /home/biocbuild/bbs-3.20-bioc/R/bin/R CMD check --install=check:ggseqalign.install-out.txt --library=/home/biocbuild/bbs-3.20-bioc/R/site-library --timings ggseqalign_1.0.0.tar.gz StartedAt: 2025-02-03 22:49:30 -0500 (Mon, 03 Feb 2025) EndedAt: 2025-02-03 22:51:06 -0500 (Mon, 03 Feb 2025) EllapsedTime: 95.1 seconds RetCode: 0 Status: OK CheckDir: ggseqalign.Rcheck Warnings: 0