Package: ggseqalign Version: 1.0.0 Command: /home/biocbuild/bbs-3.20-bioc/R/bin/R CMD INSTALL ggseqalign StartedAt: 2025-02-03 15:20:15 -0500 (Mon, 03 Feb 2025) EndedAt: 2025-02-03 15:20:26 -0500 (Mon, 03 Feb 2025) EllapsedTime: 10.7 seconds RetCode: 0 Status: OK